BEGIN:VCALENDAR
VERSION:2.0
PRODID:-//California Bluegrass Association - ECPv6.15.20//NONSGML v1.0//EN
CALSCALE:GREGORIAN
METHOD:PUBLISH
X-WR-CALNAME:California Bluegrass Association
X-ORIGINAL-URL:https://californiabluegrass.org
X-WR-CALDESC:Events for California Bluegrass Association
REFRESH-INTERVAL;VALUE=DURATION:PT1H
X-Robots-Tag:noindex
X-PUBLISHED-TTL:PT1H
BEGIN:VTIMEZONE
TZID:America/Los_Angeles
BEGIN:DAYLIGHT
TZOFFSETFROM:-0800
TZOFFSETTO:-0700
TZNAME:PDT
DTSTART:20250309T100000
END:DAYLIGHT
BEGIN:STANDARD
TZOFFSETFROM:-0700
TZOFFSETTO:-0800
TZNAME:PST
DTSTART:20251102T090000
END:STANDARD
BEGIN:DAYLIGHT
TZOFFSETFROM:-0800
TZOFFSETTO:-0700
TZNAME:PDT
DTSTART:20260308T100000
END:DAYLIGHT
BEGIN:STANDARD
TZOFFSETFROM:-0700
TZOFFSETTO:-0800
TZNAME:PST
DTSTART:20261101T090000
END:STANDARD
BEGIN:DAYLIGHT
TZOFFSETFROM:-0800
TZOFFSETTO:-0700
TZNAME:PDT
DTSTART:20270314T100000
END:DAYLIGHT
BEGIN:STANDARD
TZOFFSETFROM:-0700
TZOFFSETTO:-0800
TZNAME:PST
DTSTART:20271107T090000
END:STANDARD
END:VTIMEZONE
BEGIN:VEVENT
DTSTART;VALUE=DATE:20260430
DTEND;VALUE=DATE:20260503
DTSTAMP:20260423T191843
CREATED:20260317T195301Z
LAST-MODIFIED:20260327T191155Z
UID:345284-1777507200-1777766399@californiabluegrass.org
SUMMARY:Sierragrass
DESCRIPTION:Presented by AJ Lee & Blue Summit and Sierra Meadows in Ahwahnee\, California\n\n\n\n\n\n\n\n\n\n\nSierragrass is back for a second year of folk\, bluegrass\, Americana\, and more in beautiful Madera County.\nThis year\, the festival will feature a 3-night intimate and exclusive experience for music lovers\,\nincluding onsite camping\, RV\, and lodging options on a 1300-acre former golf course and nature reserve.
URL:https://californiabluegrass.org/event/sierragrass/
LOCATION:Sierra Meadows\, 46516 Opah Dr\, Ahwahnee\, CA\, CA\, 93601\, United States
CATEGORIES:Festival
ATTACH;FMTTYPE=image/jpeg:https://californiabluegrass.org/wp-content/uploads/2026/03/Screenshot_17-3-2026_125122_www.sierragrass.com_.jpeg
END:VEVENT
BEGIN:VEVENT
DTSTART;VALUE=DATE:20260502
DTEND;VALUE=DATE:20260504
DTSTAMP:20260423T191843
CREATED:20260423T142650Z
LAST-MODIFIED:20260423T142652Z
UID:346143-1777680000-1777852799@californiabluegrass.org
SUMMARY:Berkeley Bluegrass Festival
DESCRIPTION:We celebrate our 10th year of the The Freight ‘s Berkeley Bluegrass Festival\, May 2-3\, 2026. With concerts co-curated by Grammy-award winner Laurie Lewis and Leah Wollenberg\, plus curated instructional workshops\, Berkeley Bluegrass Festival brings together leaders of the genre\, up-and-coming artists\, and music fans for two days of concerts\, jams\, workshops \, and good old-fashioned merriment to kick off the summer music festival season. \nBerkeley Bluegrass Festival Emcee: Allegra Thompson \nWhat is Bluegrass? \nThe question\, “What is Bluegrass anyway?” or WIBA\, has been argued over by “experts” for the last 80 years at least. Bluegrass music\, so named after Bill Monroe’s Blue Grass Boys band\, began life as a distinct melding of musical styles that Monroe was inspired by and grew up with in rural Kentucky in the first half of the 20th century: old-time stringbands\, both Black and white; early Western Swing; mostly-Baptist church singing; and other early rural music styles. Since then\, every new generation of musicians drawn to the genre have added their own diverse influences and instruments into the mix. Now\, it is an ever-evolving stew built on a roux of (mostly) acoustic three-finger-style banjo\, fiddle\, guitar\, bass and mandolin with whatever else individuals want to add. It’s music we love. Opinions will vary. \n~ Laurie Lewis \nDetails and Tickets
URL:https://californiabluegrass.org/event/berkeley-bluegrass-festival/
LOCATION:The Freight\, 2020 Addison St\,\, Berkeley\, CA\, United States
CATEGORIES:Festival
ATTACH;FMTTYPE=image/jpeg:https://californiabluegrass.org/wp-content/uploads/2026/04/2026-berkeley-bg-fest-poster.jpg
GEO:37.8706997;-122.2695537
X-APPLE-STRUCTURED-LOCATION;VALUE=URI;X-ADDRESS=The Freight 2020 Addison St Berkeley CA United States;X-APPLE-RADIUS=500;X-TITLE=2020 Addison St\,:geo:-122.2695537,37.8706997
END:VEVENT
BEGIN:VEVENT
DTSTART;TZID=America/Los_Angeles:20260507T080000
DTEND;TZID=America/Los_Angeles:20260510T183000
DTSTAMP:20260423T191843
CREATED:20260317T202204Z
LAST-MODIFIED:20260317T202206Z
UID:345291-1778140800-1778437800@californiabluegrass.org
SUMMARY:Parkfield Bluegrass Festival
DESCRIPTION:Parkfield Bluegrass Festival\nEvery Mother’s Day weekend\, the quiet town of Parkfield\, California\, population 18\, transforms into a bluegrass haven filled with more than a thousand pickers\, players\, and fun-loving fans. For over a quarter century\, the Parkfield Bluegrass Festival has offered a true escape: wide-open skies\, rolling oak-studded hills\, and the unmistakable high-lonesome sound of American bluegrass.
URL:https://californiabluegrass.org/event/parkfield-bluegrass-festival/
LOCATION:Parkfield\, 70410 Parkfield Road\, Parkfield\, CA 93451\, Parkfield\, CA\, 93451\, United States
CATEGORIES:Festival
ATTACH;FMTTYPE=image/webp:https://californiabluegrass.org/wp-content/uploads/2026/03/Parkfield-Bluegrass.webp
ORGANIZER;CN="Bluegrass Music Society of the Central Coast":MAILTO:bmscc12@gmail.com
GEO:35.8997783;-120.4326542
X-APPLE-STRUCTURED-LOCATION;VALUE=URI;X-ADDRESS=Parkfield 70410 Parkfield Road Parkfield CA 93451 Parkfield CA 93451 United States;X-APPLE-RADIUS=500;X-TITLE=70410 Parkfield Road\, Parkfield\, CA 93451:geo:-120.4326542,35.8997783
END:VEVENT
BEGIN:VEVENT
DTSTART;TZID=America/Los_Angeles:20260517T083000
DTEND;TZID=America/Los_Angeles:20260517T190000
DTSTAMP:20260423T191843
CREATED:20260317T183809Z
LAST-MODIFIED:20260317T183811Z
UID:345267-1779006600-1779044400@californiabluegrass.org
SUMMARY:Topanga Banjo Fiddle Contest and Folk Festival
DESCRIPTION:Topanga Banjo Fiddle Contest and Folk Festival\nSINCE 1961\, SOUTHERN CALIFORNIA’S FAVORITE OLD-TIME\, BLUEGRASS\,\nFOLK SONG\, FOLK DANCING & CRAFTS FESTIVAL\nFIVE STAGES with live performances\, exhibitions\, food trucks\, artisans\, jamming\, workshops\, and a children’s craft and instrument petting zoo area. \nFor food\, bring your own picnic\, coolers\, or buy from our food trucks on site.\nCraft Beer for sale.\nVegan options available.\nWe urge you to bring your own reusable water containers.
URL:https://californiabluegrass.org/event/topanga-banjo-fiddle-contest-and-folk-festival/
LOCATION:King Gillette Ranch\, 26800 Mulholland Highway\, Calabasas\, 91302\, United States
CATEGORIES:Contest,Festival
ATTACH;FMTTYPE=image/avif:https://californiabluegrass.org/wp-content/uploads/2026/03/Topanga-Folk-Festival.avif
END:VEVENT
BEGIN:VEVENT
DTSTART;VALUE=DATE:20260521
DTEND;VALUE=DATE:20260525
DTSTAMP:20260423T191843
CREATED:20260317T193935Z
LAST-MODIFIED:20260317T193935Z
UID:345283-1779321600-1779667199@californiabluegrass.org
SUMMARY:Strawberry Spring Music Fest
DESCRIPTION:The Strawberry Music Festivals are a multi-day\, family-friendly campout with live music featuring nationally recognized touring acts and up-and-coming performing artists. Since our first festival in 1982\, Strawberry has become a close-knit community of music lovers whose collective ethos is rooted in kindness\, cooperation\, and consideration\, coined as “The Strawberry Way.” \nSet on 100 acres of conifer forest\, Strawberry is held at the beautiful Nevada County Fairgrounds where camping is made comfortable by gentle terrain and ample amenities. Programming includes a wide variety of activities and entertainment for all ages and abilities. We are excited to see you at our upcoming festival!
URL:https://californiabluegrass.org/event/strawberry-spring-music-fest/
LOCATION:Nevada County Fairgrounds\, 11228 McCourtney Rd\, Grass Valley\, CA\, 95949\, United States
CATEGORIES:Festival
ATTACH;FMTTYPE=image/jpeg:https://californiabluegrass.org/wp-content/uploads/2026/03/strawberry-spring-2026.jpg
END:VEVENT
BEGIN:VEVENT
DTSTART;VALUE=DATE:20260618
DTEND;VALUE=DATE:20260622
DTSTAMP:20260423T191843
CREATED:20260316T192455Z
LAST-MODIFIED:20260317T194715Z
UID:345253-1781740800-1782086399@californiabluegrass.org
SUMMARY:CBA FATHER'S DAY FESTIVAL
DESCRIPTION:CBA Father’s Day Festival\nA premier West Coast bluegrass festival.\n-Three Stages of Music-\n-Camping amongst the Pines-\n-Extensive Youth Program-\n-Free workshops-\n-Free Square-dances-\n-Food\, Crafts\, Beverages-\n-Luthier’s Pavilion-\n-Best jamming West of the Rockies-\n-Family fun for all-
URL:https://californiabluegrass.org/event/cba-fathers-day-festival/
LOCATION:Nevada County Fairgrounds\, 11228 McCourtney Rd\, Grass Valley\, CA\, 95949\, United States
CATEGORIES:Festival
ATTACH;FMTTYPE=image/jpeg:https://californiabluegrass.org/wp-content/uploads/2025/12/FDF-Tile.jpg
END:VEVENT
BEGIN:VEVENT
DTSTART;TZID=America/Los_Angeles:20260626T110000
DTEND;TZID=America/Los_Angeles:20260628T200000
DTSTAMP:20260423T191843
CREATED:20260405T175350Z
LAST-MODIFIED:20260405T175350Z
UID:345563-1782471600-1782676800@californiabluegrass.org
SUMMARY:15th Annual Susanville Bluegrass Festival
DESCRIPTION:15th Annual Susanville Bluegrass Festival\nLassen County Fairgrounds\, Susanville\, CA\nJune 26-28\, 2026\nSusanville Music Camp will be held just prior to the festival on Tuesday-Thursday\, June 23-25 @ 10:00 a.m. – 4:00 p.m.\nGuitar\, banjo\, mandolin\, bass\, and vocal classes provided by top tier bluegrass instructors!! \nWorkshops are provided to continue the learning\, after Music Camp\, during the festival. \nThe popular Quilt Room sponsored by Country Pines Quilt shop has returned! \nJam rooms are available as well as jamming at camp! \nSuch beautiful camping sites are available to rent\, both dry camping and RV camping. \nFood vendors\, Arts & Crafts Vendors\, come explore\, shop and get your fill. \nLocals Night BBQ plan on being held on Thursday\, June 25.\nWe’ll post details and a link on the website\, if the BBQ will be held!\nPlus\, special LOCALS ONLY passes for Friday and Saturday after 5pm. \nFairground Gates open for camping on Sunday\, June 21 @ 10:00 a.m. \nFEELING THE BEAT IN 2026\nOur festival is presented by the Susanville Bluegrass Music Alliance\, a 501 (c) 3 non-profit organization.
URL:https://californiabluegrass.org/event/15th-annual-susanville-bluegrass-festival/
LOCATION:Lassen County Fairgrounds\, 175 Russell Ave\, Susanville\, CA\, 96130\, United States
CATEGORIES:Festival
ATTACH;FMTTYPE=image/jpeg:https://californiabluegrass.org/wp-content/uploads/2026/04/Susanville2026.jpg
ORGANIZER;CN="Susanville Bluegrass Music Alliance":MAILTO:susanvillebluegrass@outlook.com
END:VEVENT
BEGIN:VEVENT
DTSTART;TZID=America/Los_Angeles:20260919T110000
DTEND;TZID=America/Los_Angeles:20260919T170000
DTSTAMP:20260423T191843
CREATED:20260404T214133Z
LAST-MODIFIED:20260404T214134Z
UID:345534-1789815600-1789837200@californiabluegrass.org
SUMMARY:Fiddlers' Jam
DESCRIPTION:Fiddlers’ Jam 75th Anniversary\, coming September 19th!\n\nEnjoy a day of great music\, food and fun!\nHeadliner band…Dirty Cello!\nTaking it to the street\, Fiddletown!\nFiddle contest open to all ages!\nLive Music\nJam Joints\nFood\, Beverages\, and Artisan Crafts\nFREE!
URL:https://californiabluegrass.org/event/fiddlers-jam/
LOCATION:Fiddletown\, CA\, 14445 Fiddletown Road\, Fiddletown\, CA\, 95629\, United States
CATEGORIES:Festival
ATTACH;FMTTYPE=image/jpeg:https://californiabluegrass.org/wp-content/uploads/2026/04/FJam_8.5x11_2026_Flyer_FINALre.jpg
ORGANIZER;CN="Fiddletown Community Center":MAILTO:info@fiddletowncc.org
GEO:38.5043088;-120.7574671
X-APPLE-STRUCTURED-LOCATION;VALUE=URI;X-ADDRESS=Fiddletown CA 14445 Fiddletown Road Fiddletown CA 95629 United States;X-APPLE-RADIUS=500;X-TITLE=14445 Fiddletown Road:geo:-120.7574671,38.5043088
END:VEVENT
BEGIN:VEVENT
DTSTART;TZID=America/Los_Angeles:20260920T120000
DTEND;TZID=America/Los_Angeles:20260920T180000
DTSTAMP:20260423T191843
CREATED:20260315T174758Z
LAST-MODIFIED:20260315T174758Z
UID:345190-1789905600-1789927200@californiabluegrass.org
SUMMARY:9th Annual Blues\, Brews & BBQ
DESCRIPTION:Join us for our 9th annual celebration of world-class Blues musicians\, a myriad of local craft breweries\, and smoking BBQ vendors. Chris Cain\, Terrie Odabi\, and Aki Kumar Blues Jam will headline on the main stage. \nLocal pitmasters have included Tante’s Catering\, Evergood\, T&S Extreme\, Smoking Woods\, Speer\, Pearsons\, Stackhouse BBQ–along with Alameda locals C’era Una Volta and Calafia–serving up smoky barbecue and sides\, while craft breweries showcase their best seasonal brews. \nIn addition to the festivities\, attendees can peruse locally-crafted wares from Bay Area vendors. Kids can get crafty and stay engaged at the Family Zone hosted by Ozzy’s Music Academy. \nWith acres of green space\, easy access\, and great facilities\, the whole family will love this community park turned live music festival. Want to escape the crowds at the stage? Bring a blanket or lawn chair\, take the kids to the playground\, or even take in a view of the breathtaking San Francisco Bay. \nSunday\, Sept. 20\, 2026 • 12:00-6:00pm \nFREE with RSVP \nWashington Park\, 740 Central Avenue\, Alameda\, CA 94601
URL:https://californiabluegrass.org/event/9th-annual-blues-brews-bbq/
LOCATION:Washington Park\, 740 Central Avenue\, Alameda\, 94601\, United States
CATEGORIES:Festival
ATTACH;FMTTYPE=image/jpeg:https://californiabluegrass.org/wp-content/uploads/2026/03/BBBBQ-icon-e1773596109282.jpg
ORGANIZER;CN="West End Arts District":MAILTO:info@westendartsdistrict.org
END:VEVENT
END:VCALENDAR