BEGIN:VCALENDAR
VERSION:2.0
PRODID:-//California Bluegrass Association - ECPv6.15.20//NONSGML v1.0//EN
CALSCALE:GREGORIAN
METHOD:PUBLISH
X-ORIGINAL-URL:https://californiabluegrass.org
X-WR-CALDESC:Events for California Bluegrass Association
REFRESH-INTERVAL;VALUE=DURATION:PT1H
X-Robots-Tag:noindex
X-PUBLISHED-TTL:PT1H
BEGIN:VTIMEZONE
TZID:America/Los_Angeles
BEGIN:DAYLIGHT
TZOFFSETFROM:-0800
TZOFFSETTO:-0700
TZNAME:PDT
DTSTART:20250309T100000
END:DAYLIGHT
BEGIN:STANDARD
TZOFFSETFROM:-0700
TZOFFSETTO:-0800
TZNAME:PST
DTSTART:20251102T090000
END:STANDARD
BEGIN:DAYLIGHT
TZOFFSETFROM:-0800
TZOFFSETTO:-0700
TZNAME:PDT
DTSTART:20260308T100000
END:DAYLIGHT
BEGIN:STANDARD
TZOFFSETFROM:-0700
TZOFFSETTO:-0800
TZNAME:PST
DTSTART:20261101T090000
END:STANDARD
BEGIN:DAYLIGHT
TZOFFSETFROM:-0800
TZOFFSETTO:-0700
TZNAME:PDT
DTSTART:20270314T100000
END:DAYLIGHT
BEGIN:STANDARD
TZOFFSETFROM:-0700
TZOFFSETTO:-0800
TZNAME:PST
DTSTART:20271107T090000
END:STANDARD
END:VTIMEZONE
BEGIN:VEVENT
DTSTART;TZID=America/Los_Angeles:20260919T110000
DTEND;TZID=America/Los_Angeles:20260919T170000
DTSTAMP:20260423T215529
CREATED:20260404T214133Z
LAST-MODIFIED:20260404T214134Z
UID:345534-1789815600-1789837200@californiabluegrass.org
SUMMARY:Fiddlers' Jam
DESCRIPTION:Fiddlers’ Jam 75th Anniversary\, coming September 19th!\n\nEnjoy a day of great music\, food and fun!\nHeadliner band…Dirty Cello!\nTaking it to the street\, Fiddletown!\nFiddle contest open to all ages!\nLive Music\nJam Joints\nFood\, Beverages\, and Artisan Crafts\nFREE!
URL:https://californiabluegrass.org/event/fiddlers-jam/
LOCATION:Fiddletown\, CA\, 14445 Fiddletown Road\, Fiddletown\, CA\, 95629\, United States
CATEGORIES:Festival
ATTACH;FMTTYPE=image/jpeg:https://californiabluegrass.org/wp-content/uploads/2026/04/FJam_8.5x11_2026_Flyer_FINALre.jpg
ORGANIZER;CN="Fiddletown Community Center":MAILTO:info@fiddletowncc.org
GEO:38.5043088;-120.7574671
X-APPLE-STRUCTURED-LOCATION;VALUE=URI;X-ADDRESS=Fiddletown CA 14445 Fiddletown Road Fiddletown CA 95629 United States;X-APPLE-RADIUS=500;X-TITLE=14445 Fiddletown Road:geo:-120.7574671,38.5043088
END:VEVENT
END:VCALENDAR