BEGIN:VCALENDAR
VERSION:2.0
PRODID:-//California Bluegrass Association - ECPv6.15.20//NONSGML v1.0//EN
CALSCALE:GREGORIAN
METHOD:PUBLISH
X-WR-CALNAME:California Bluegrass Association
X-ORIGINAL-URL:https://californiabluegrass.org
X-WR-CALDESC:Events for California Bluegrass Association
REFRESH-INTERVAL;VALUE=DURATION:PT1H
X-Robots-Tag:noindex
X-PUBLISHED-TTL:PT1H
BEGIN:VTIMEZONE
TZID:America/Los_Angeles
BEGIN:DAYLIGHT
TZOFFSETFROM:-0800
TZOFFSETTO:-0700
TZNAME:PDT
DTSTART:20220313T100000
END:DAYLIGHT
BEGIN:STANDARD
TZOFFSETFROM:-0700
TZOFFSETTO:-0800
TZNAME:PST
DTSTART:20221106T090000
END:STANDARD
BEGIN:DAYLIGHT
TZOFFSETFROM:-0800
TZOFFSETTO:-0700
TZNAME:PDT
DTSTART:20230312T100000
END:DAYLIGHT
BEGIN:STANDARD
TZOFFSETFROM:-0700
TZOFFSETTO:-0800
TZNAME:PST
DTSTART:20231105T090000
END:STANDARD
BEGIN:DAYLIGHT
TZOFFSETFROM:-0800
TZOFFSETTO:-0700
TZNAME:PDT
DTSTART:20240310T100000
END:DAYLIGHT
BEGIN:STANDARD
TZOFFSETFROM:-0700
TZOFFSETTO:-0800
TZNAME:PST
DTSTART:20241103T090000
END:STANDARD
BEGIN:DAYLIGHT
TZOFFSETFROM:-0800
TZOFFSETTO:-0700
TZNAME:PDT
DTSTART:20250309T100000
END:DAYLIGHT
BEGIN:STANDARD
TZOFFSETFROM:-0700
TZOFFSETTO:-0800
TZNAME:PST
DTSTART:20251102T090000
END:STANDARD
BEGIN:DAYLIGHT
TZOFFSETFROM:-0800
TZOFFSETTO:-0700
TZNAME:PDT
DTSTART:20260308T100000
END:DAYLIGHT
BEGIN:STANDARD
TZOFFSETFROM:-0700
TZOFFSETTO:-0800
TZNAME:PST
DTSTART:20261101T090000
END:STANDARD
BEGIN:DAYLIGHT
TZOFFSETFROM:-0800
TZOFFSETTO:-0700
TZNAME:PDT
DTSTART:20270314T100000
END:DAYLIGHT
BEGIN:STANDARD
TZOFFSETFROM:-0700
TZOFFSETTO:-0800
TZNAME:PST
DTSTART:20271107T090000
END:STANDARD
END:VTIMEZONE
BEGIN:VEVENT
DTSTART;TZID=America/Los_Angeles:20260412T130000
DTEND;TZID=America/Los_Angeles:20260412T160000
DTSTAMP:20260421T011543
CREATED:20230727T151622Z
LAST-MODIFIED:20230727T151622Z
UID:339579-1775998800-1776009600@californiabluegrass.org
SUMMARY:California State Old Time Fiddler's Association Jam
DESCRIPTION:The California State Old Time Fiddlers Association District 5 meets on the 2nd Sunday of every Month from 1-4. Join us  Sunday\, August 13 for a fun musical time. We’ll have a jam session of musicians of all levels playing. We’re dedicated to preserving and playing authentic old-time fiddle tunes from many traditions\, including Old Time\, Bluegrass\, Celtic\, Americana\, folk. \nAdmission is free\, family and kid friendly atmosphere. Drop in any time between 1-4. Bring your fiddle\, banjo\, mandolin\, bass!
URL:https://californiabluegrass.org/event/california-state-old-time-fiddlers-association-jam/2026-04-12/
LOCATION:Orangevale Grange Hall\, 5807 Walnut Avenue\, Orangevale\, 95662
CATEGORIES:Jam
END:VEVENT
BEGIN:VEVENT
DTSTART;TZID=America/Los_Angeles:20260308T130000
DTEND;TZID=America/Los_Angeles:20260308T160000
DTSTAMP:20260421T011543
CREATED:20230727T151622Z
LAST-MODIFIED:20230727T151622Z
UID:339090-1772974800-1772985600@californiabluegrass.org
SUMMARY:California State Old Time Fiddler's Association Jam
DESCRIPTION:The California State Old Time Fiddlers Association District 5 meets on the 2nd Sunday of every Month from 1-4. Join us  Sunday\, August 13 for a fun musical time. We’ll have a jam session of musicians of all levels playing. We’re dedicated to preserving and playing authentic old-time fiddle tunes from many traditions\, including Old Time\, Bluegrass\, Celtic\, Americana\, folk. \nAdmission is free\, family and kid friendly atmosphere. Drop in any time between 1-4. Bring your fiddle\, banjo\, mandolin\, bass!
URL:https://californiabluegrass.org/event/california-state-old-time-fiddlers-association-jam/2026-03-08/
LOCATION:Orangevale Grange Hall\, 5807 Walnut Avenue\, Orangevale\, 95662
CATEGORIES:Jam
END:VEVENT
BEGIN:VEVENT
DTSTART;TZID=America/Los_Angeles:20260208T130000
DTEND;TZID=America/Los_Angeles:20260208T160000
DTSTAMP:20260421T011543
CREATED:20230727T151622Z
LAST-MODIFIED:20230727T151622Z
UID:338569-1770555600-1770566400@californiabluegrass.org
SUMMARY:California State Old Time Fiddler's Association Jam
DESCRIPTION:The California State Old Time Fiddlers Association District 5 meets on the 2nd Sunday of every Month from 1-4. Join us  Sunday\, August 13 for a fun musical time. We’ll have a jam session of musicians of all levels playing. We’re dedicated to preserving and playing authentic old-time fiddle tunes from many traditions\, including Old Time\, Bluegrass\, Celtic\, Americana\, folk. \nAdmission is free\, family and kid friendly atmosphere. Drop in any time between 1-4. Bring your fiddle\, banjo\, mandolin\, bass!
URL:https://californiabluegrass.org/event/california-state-old-time-fiddlers-association-jam/2026-02-08/
LOCATION:Orangevale Grange Hall\, 5807 Walnut Avenue\, Orangevale\, 95662
CATEGORIES:Jam
END:VEVENT
BEGIN:VEVENT
DTSTART;TZID=America/Los_Angeles:20230813T130000
DTEND;TZID=America/Los_Angeles:20230813T160000
DTSTAMP:20260421T011543
CREATED:20230727T151622Z
LAST-MODIFIED:20231110T174516Z
UID:321538-1691931600-1691942400@californiabluegrass.org
SUMMARY:California State Old Time Fiddler's Association Jam
DESCRIPTION:The California State Old Time Fiddlers Association District 5 meets on the 2nd Sunday of every Month from 1-4. Join us  Sunday\, August 13 for a fun musical time. We’ll have a jam session of musicians of all levels playing. We’re dedicated to preserving and playing authentic old-time fiddle tunes from many traditions\, including Old Time\, Bluegrass\, Celtic\, Americana\, folk. \nAdmission is free\, family and kid friendly atmosphere. Drop in any time between 1-4. Bring your fiddle\, banjo\, mandolin\, bass!
URL:https://californiabluegrass.org/event/california-state-old-time-fiddlers-association-jam/2023-08-13/
LOCATION:Orangevale Grange Hall\, 5807 Walnut Avenue\, Orangevale\, 95662
CATEGORIES:Jam
END:VEVENT
END:VCALENDAR