BEGIN:VCALENDAR
VERSION:2.0
PRODID:-//California Bluegrass Association - ECPv6.15.20//NONSGML v1.0//EN
CALSCALE:GREGORIAN
METHOD:PUBLISH
X-WR-CALNAME:California Bluegrass Association
X-ORIGINAL-URL:https://californiabluegrass.org
X-WR-CALDESC:Events for California Bluegrass Association
REFRESH-INTERVAL;VALUE=DURATION:PT1H
X-Robots-Tag:noindex
X-PUBLISHED-TTL:PT1H
BEGIN:VTIMEZONE
TZID:America/Los_Angeles
BEGIN:DAYLIGHT
TZOFFSETFROM:-0800
TZOFFSETTO:-0700
TZNAME:PDT
DTSTART:20250309T100000
END:DAYLIGHT
BEGIN:STANDARD
TZOFFSETFROM:-0700
TZOFFSETTO:-0800
TZNAME:PST
DTSTART:20251102T090000
END:STANDARD
BEGIN:DAYLIGHT
TZOFFSETFROM:-0800
TZOFFSETTO:-0700
TZNAME:PDT
DTSTART:20260308T100000
END:DAYLIGHT
BEGIN:STANDARD
TZOFFSETFROM:-0700
TZOFFSETTO:-0800
TZNAME:PST
DTSTART:20261101T090000
END:STANDARD
BEGIN:DAYLIGHT
TZOFFSETFROM:-0800
TZOFFSETTO:-0700
TZNAME:PDT
DTSTART:20270314T100000
END:DAYLIGHT
BEGIN:STANDARD
TZOFFSETFROM:-0700
TZOFFSETTO:-0800
TZNAME:PST
DTSTART:20271107T090000
END:STANDARD
END:VTIMEZONE
BEGIN:VEVENT
DTSTART;TZID=America/Los_Angeles:20260422T180000
DTEND;TZID=America/Los_Angeles:20260422T200000
DTSTAMP:20260422T082458
CREATED:20231028T142016Z
LAST-MODIFIED:20231028T142016Z
UID:339640-1776880800-1776888000@californiabluegrass.org
SUMMARY:Wednesday East Bay Bluegrassers Jam
DESCRIPTION:The long-running East Bay Bluegrassers Jam continues on Wednesday evenings in El Cerrito. All ages and skill levels are welcome.\n\n\nThe jam is held every Wednesday\, 6-8pm\, on the second floor of Rockin’ Robbie’s Music Store (formerly The Music Works) at 11231 San Pablo Ave\, El Cerrito\, CA. (Three blocks from the El Cerrito Del Norte BART Station.) Entrance is to the right of the store and up one flight of stairs.\n\n\nDoors open at 5:30 for setup and to purchase strings or supplies if needed. A $5 donation is requested to help cover the room rental.
URL:https://californiabluegrass.org/event/wednesday-east-bay-bluegrassers-jam/2026-04-22/
LOCATION:Rockin Robbies – El Cerrito\, 11231 San Pablo Ave\, 2nd Floor\, El Cerrito\, CA\, 94530\, United States
CATEGORIES:Jam
ATTACH;FMTTYPE=image/jpeg:https://californiabluegrass.org/wp-content/uploads/2023/10/El-Cerrito-Jam-Group-Arlington.jpeg
ORGANIZER;CN="East Bay Bluegrassers%2C Contact%3A Steve Hutchinson":MAILTO:stevehutchmarine@gmail.com
END:VEVENT
BEGIN:VEVENT
DTSTART;TZID=America/Los_Angeles:20260422T180000
DTEND;TZID=America/Los_Angeles:20260422T200000
DTSTAMP:20260422T082458
CREATED:20231219T184112Z
LAST-MODIFIED:20231219T184112Z
UID:339639-1776880800-1776888000@californiabluegrass.org
SUMMARY:Wednesday East Bay Bluegrassers Jam
DESCRIPTION:The long-running East Bay Bluegrassers Jam continues on Wednesday evenings in El Cerrito. All ages and skill levels are welcome.\n\n\nThe jam is held every Wednesday\, 6-8pm\, on the second floor of Rockin’ Robbie’s Music Store (formerly The Music Works) at 11231 San Pablo Ave\, El Cerrito\, CA. (Three blocks from the El Cerrito Del Norte BART Station.) Entrance is to the right of the store and up one flight of stairs.\n\n\nDoors open at 5:30 for setup and to purchase strings or supplies if needed. A $5 donation is requested to help cover the room rental.
URL:https://californiabluegrass.org/event/wednesday-east-bay-bluegrassers-jam-2/2026-04-22/
LOCATION:Rockin Robbies – El Cerrito\, 11231 San Pablo Ave\, 2nd Floor\, El Cerrito\, CA\, 94530\, United States
CATEGORIES:Jam
ATTACH;FMTTYPE=image/jpeg:https://californiabluegrass.org/wp-content/uploads/2023/12/DSC04287-Edit-2.jpg
ORGANIZER;CN="East Bay Bluegrassers%2C Contact%3A Steve Hutchinson":MAILTO:stevehutchmarine@gmail.com
END:VEVENT
BEGIN:VEVENT
DTSTART;TZID=America/Los_Angeles:20260422T180000
DTEND;TZID=America/Los_Angeles:20260422T220000
DTSTAMP:20260422T082458
CREATED:20240225T155251Z
LAST-MODIFIED:20240225T155251Z
UID:339641-1776880800-1776895200@californiabluegrass.org
SUMMARY:Weekly Jam at Lawless Brewery
DESCRIPTION:All skills and ages welcome\, very friendly jam! Great players and new players alike. \nLocated at Lawless Brewery in North Hollywood\, this jam takes place every Wednesday\, 6-10pm. \n5275 Craner Ave\, Los Angeles\, CA 91601 \nContact nohoweeklyjam@gmail.com or (585) 267-6582 if you have any questions.
URL:https://californiabluegrass.org/event/weekly-jam-at-lawless-brewery/2026-04-22/
LOCATION:Lawless Brewery\, 5275 Craner Ave\, North Hollywood\, 91601
CATEGORIES:Jam
ORGANIZER;CN="Ryan Schindler":MAILTO:nohoweeklyjam@gmail.com
END:VEVENT
BEGIN:VEVENT
DTSTART;TZID=America/Los_Angeles:20260422T183000
DTEND;TZID=America/Los_Angeles:20260422T210000
DTSTAMP:20260422T082458
CREATED:20250718T044846Z
LAST-MODIFIED:20250718T044846Z
UID:340691-1776882600-1776891600@californiabluegrass.org
SUMMARY:Weekly Jam at Septentrio Winery
DESCRIPTION:Weekly bluegrass jam at Septentrio Winery in Arcata near the plaza.\nAll ages and levels welcome.\nBring your instrument and come jam with us every Wednesday night!
URL:https://californiabluegrass.org/event/weekly-jam-at-septentrio-winery/2026-04-22/
LOCATION:Septentrio Winery\, 650 6th Street\, Arcata\, 95521\, United States
CATEGORIES:Jam
ATTACH;FMTTYPE=image/jpeg:https://californiabluegrass.org/wp-content/uploads/2025/07/Screenshot_17-7-2025_214221_www.septentriowinery.com_-e1752814103644.jpeg
END:VEVENT
BEGIN:VEVENT
DTSTART;TZID=America/Los_Angeles:20260423T173000
DTEND;TZID=America/Los_Angeles:20260423T203000
DTSTAMP:20260422T082458
CREATED:20240210T234740Z
LAST-MODIFIED:20240210T234740Z
UID:339651-1776965400-1776976200@californiabluegrass.org
SUMMARY:Bluegrass Jam at The Wild Eye Pub
DESCRIPTION:Come on down and pick a spell.  The Wild Eye Pub offers food and drinks.  Bring your instrument and play or just hang out and listen.  All levels welcome.
URL:https://californiabluegrass.org/event/bluegrass-jam-at-the-wild-eye-pub/2026-04-23/
LOCATION:Wild Eye Pub\, 535 Mill Street\, Grass Valley\, CA\, 95945\, United States
CATEGORIES:Jam
ATTACH;FMTTYPE=image/jpeg:https://californiabluegrass.org/wp-content/uploads/2024/02/Bluegrass-Jam-2-26-24-1-scaled.jpg
GEO:39.2105475;-121.0688474
X-APPLE-STRUCTURED-LOCATION;VALUE=URI;X-ADDRESS=Wild Eye Pub 535 Mill Street Grass Valley CA 95945 United States;X-APPLE-RADIUS=500;X-TITLE=535 Mill Street:geo:-121.0688474,39.2105475
END:VEVENT
BEGIN:VEVENT
DTSTART;TZID=America/Los_Angeles:20260425T100000
DTEND;TZID=America/Los_Angeles:20260425T100000
DTSTAMP:20260422T082458
CREATED:20250421T182318Z
LAST-MODIFIED:20250607T062431Z
UID:339714-1777111200-1777111200@californiabluegrass.org
SUMMARY:LONG BEACH DOG PARK JAM
DESCRIPTION:LONG BEACH DOG PARK JAM\nThe Long Beach Dog Park Jam meets every Saturday from 10 a.m. to ??whenever?? near the Long Beach Rec Park Dog Park at 5201 E. 7th Street in Long Beach.\nIt’s outside\, so bring a chair and some water\, if it’s hot.\nBring your instrument and join us in a bluegrass jam. Close your case and keep an eye on it — there are dogs around.\nFor info: fiddlingphoebe@gmail.com
URL:https://californiabluegrass.org/event/long-beach-dog-park-jam/2026-04-25/
LOCATION:Long Beach Dog Park\, 5201 E. 7th Street\, Long Beach\, 90804\, United States
CATEGORIES:Jam
ATTACH;FMTTYPE=image/avif:https://californiabluegrass.org/wp-content/uploads/2025/04/Long-Beach-Dog-Park-Jam.avif
END:VEVENT
BEGIN:VEVENT
DTSTART;TZID=America/Los_Angeles:20260425T100000
DTEND;TZID=America/Los_Angeles:20260425T120000
DTSTAMP:20260422T082458
CREATED:20230723T185735Z
LAST-MODIFIED:20230723T185735Z
UID:339897-1777111200-1777118400@californiabluegrass.org
SUMMARY:Oso Creek Jam
DESCRIPTION:Beginner friendly song oriented bluegrass and Americana. 10 am on 2nd and 4th Saturdays. All levels welcome. Bring a folding chair. Behind Murray Community Center next to Oso Creek Trail. \nContact Dennis Murphy 562 233 4905
URL:https://californiabluegrass.org/event/oso-creek-jam-2024-03-09/2026-04-25/
LOCATION:Oso Viejo Park\, 24932 Veterans Way\, Mission Viejo\, CA\, 92640\, United States
CATEGORIES:Jam
ATTACH;FMTTYPE=image/jpeg:https://californiabluegrass.org/wp-content/uploads/2023/07/IMG_20230708_131317.jpg
ORGANIZER;CN="Dennis Murphy":MAILTO:murphdasurf65@gmail.com
END:VEVENT
BEGIN:VEVENT
DTSTART;TZID=America/Los_Angeles:20260425T140000
DTEND;TZID=America/Los_Angeles:20260425T160000
DTSTAMP:20260422T082458
CREATED:20240327T152908Z
LAST-MODIFIED:20240327T152908Z
UID:339712-1777125600-1777132800@californiabluegrass.org
SUMMARY:Bearcat Stringband and Friends at Cato's Alehouse
DESCRIPTION:Come join Robin Fischer and Rowan McCallister and their talented friends every fourth Saturday at the friendliest pub in Oakland! \nOld Time tunes\, drinks\, and food – kid friendly too.
URL:https://californiabluegrass.org/event/bearcat-stringband-and-friends-at-catos-alehouse/2026-04-25/
LOCATION:Cato’s Alehouse\, 3981 Piedmont Ave\, Oakland\, CA\, CA\, 947043208\, United States
CATEGORIES:Live Performance
END:VEVENT
BEGIN:VEVENT
DTSTART;TZID=America/Los_Angeles:20260425T140000
DTEND;TZID=America/Los_Angeles:20260425T160000
DTSTAMP:20260422T082458
CREATED:20240420T154927Z
LAST-MODIFIED:20240420T154927Z
UID:339713-1777125600-1777132800@californiabluegrass.org
SUMMARY:Weekly Jam at Dagny's Coffee Company
DESCRIPTION:Weekly bluegrass jam. \nJam host Jeff Russinsky \n(661)742-5434
URL:https://californiabluegrass.org/event/jam/2026-04-25/
LOCATION:Dagny’s Coffee Company\, 1600 20th St.\, Bakersfield\, 93301
CATEGORIES:Jam
END:VEVENT
BEGIN:VEVENT
DTSTART;TZID=America/Los_Angeles:20260426T120000
DTEND;TZID=America/Los_Angeles:20260426T140000
DTSTAMP:20260422T082458
CREATED:20250626T234405Z
LAST-MODIFIED:20260207T223114Z
UID:340735-1777204800-1777212000@californiabluegrass.org
SUMMARY:The Marin Bluegrass Sessions at Sweetwater Music Hall
DESCRIPTION:Live mic\, open bluegrass jam on the  fourth Sunday of the month\, in a casual performance-oriented format on the famed Sweetwater Music Hall stage. For Intermediate to Advanced players\, with support band backing. Restaurant and bar are open\, and free admittance for all ages. Bring your friends and family\, so they can see you step up to the mic and shine! Participating musicians get a complimentary first beverage from bar.  Donations to tip jar will go to CBA Youth Programs for outreach and education. Monthly event at Sweetwater Music Hall in Mill Valley. Doors at 11:30\, jam-performance from noon till 2 pm.\nContact: bruce.sadownick@gmail.com
URL:https://californiabluegrass.org/event/the-marin-bluegrass-sessions-at-sweetwater-music-hall/2026-04-26/
LOCATION:Sweetwater Music Hall\, 19 Corte Madera Avenue\, Mill Valley\, CA\, 94941\, United States
CATEGORIES:Jam
ATTACH;FMTTYPE=image/jpeg:https://californiabluegrass.org/wp-content/uploads/2025/06/Marin-Bluegrass-Sessions-FB-header.jpg
END:VEVENT
BEGIN:VEVENT
DTSTART;TZID=America/Los_Angeles:20260426T120000
DTEND;TZID=America/Los_Angeles:20260426T150000
DTSTAMP:20260422T082458
CREATED:20240908T132644Z
LAST-MODIFIED:20240908T132644Z
UID:339716-1777204800-1777215600@californiabluegrass.org
SUMMARY:Burbank Bluegrass Jam at George Izay Park
DESCRIPTION:Located near the Joslyn Adult Center\, this friendly\, outdoor bluegrass jam occurs nearly every Sunday at 12 noon and typically goes until at least 2pm but may go as late as 4pm on occasion. All ages\, skill levels and bluegrass instruments are welcome to come on down and play! Ample parking is available on both Griffith Park Drive and the main lot seen in the above image. Meet-up is at the green checkmark.  \nADDRESS: 1111 W Olive Ave\, Burbank\, CA 91506 \nNote: A group email is sent out each Friday to either confirm or postpone (sometimes due to bad weather) the upcoming Sunday jam. If you’d like to be put on the list\, please contact Mark at mark.gusick@gmail.com. Thank you\, and hope to see you there!
URL:https://californiabluegrass.org/event/burbank-bluegrass-jam-at-george-izay-park/2026-04-26/
LOCATION:George Izay Park\, 1111 W Olive Ave\, Burbank\, 91506
CATEGORIES:Jam
ATTACH;FMTTYPE=image/png:https://californiabluegrass.org/wp-content/uploads/2024/05/02.png
ORGANIZER;CN="Mark Gusick":MAILTO:mark.gusick@gmail.com
END:VEVENT
BEGIN:VEVENT
DTSTART;TZID=America/Los_Angeles:20260426T150000
DTEND;TZID=America/Los_Angeles:20260426T170000
DTSTAMP:20260422T082458
CREATED:20231219T183607Z
LAST-MODIFIED:20231219T183607Z
UID:339715-1777215600-1777222800@californiabluegrass.org
SUMMARY:The Cafe Jam
DESCRIPTION:A friendly open bluegrass jam for players of all levels\, ages\, genders. This is not a slow jam! Although you may hear slow songs called. Try to come without music stands or song sheets if you possibly can. After the jam\, stick around and enjoy the evening’s live entertainment over dinner!
URL:https://californiabluegrass.org/event/the-cafe-jam/2026-04-26/
LOCATION:Redwood Cafe\, 8240 Old Redwood Hwy\,\, Cotati\, CA\, 94952\, United States
CATEGORIES:Jam
END:VEVENT
BEGIN:VEVENT
DTSTART;TZID=America/Los_Angeles:20260426T160000
DTEND;TZID=America/Los_Angeles:20260426T190000
DTSTAMP:20260422T082458
CREATED:20240703T185346Z
LAST-MODIFIED:20240703T185346Z
UID:339718-1777219200-1777230000@californiabluegrass.org
SUMMARY:Horseshoe Jam
DESCRIPTION:Every Sunday   from 4- 7  pm \, Age: 21  and over jam-\n\nThe Lucky Horseshoe Bar (453 Cortland\, SF) hosts an intermediate “performance” bluegrass jam \n(on stage\, playing into a mic and to a crowd) 4-7 pm. \nMust be able to lead a vocal or instrumental song. \n 
URL:https://californiabluegrass.org/event/horseshoe-jam/2026-04-26/
LOCATION:The Lucky Horseshoe San Francisco\, 453 Cortland Ave\, San Francisco\, 94110
CATEGORIES:Jam,Live Performance
ATTACH;FMTTYPE=image/jpeg:https://californiabluegrass.org/wp-content/uploads/2024/07/shoejam.jpg
END:VEVENT
BEGIN:VEVENT
DTSTART;TZID=America/Los_Angeles:20260426T180000
DTEND;TZID=America/Los_Angeles:20260426T200000
DTSTAMP:20260422T082458
CREATED:20250902T005228Z
LAST-MODIFIED:20251209T154035Z
UID:341560-1777226400-1777233600@californiabluegrass.org
SUMMARY:Two Rivers Cider Old Time Jam
DESCRIPTION:Weekly old time jam at Two Rivers Cider in Sacramento’s Hollywood Park neighborhood. All levels welcome. Occasional bluegrass songs are called.\nThe jam is moving to a private home during the month of December and January. \nInterested attendees can email the jam host for the address in December and January. The time on Sunday night\, is the same.\nPlease contact us at nfbrilliant@gmail.com
URL:https://californiabluegrass.org/event/two-rivers-cider-old-time-jam/2026-04-26/
LOCATION:Two Rivers Cider\, 4311 Attawa Ave #300\, Sacramento\, 95822\, United States
CATEGORIES:Jam
ATTACH;FMTTYPE=image/jpeg:https://californiabluegrass.org/wp-content/uploads/2025/08/IMG_8826.jpg
END:VEVENT
BEGIN:VEVENT
DTSTART;TZID=America/Los_Angeles:20260426T180000
DTEND;TZID=America/Los_Angeles:20260426T220000
DTSTAMP:20260422T082458
CREATED:20240518T225825Z
LAST-MODIFIED:20240518T225825Z
UID:339717-1777226400-1777240800@californiabluegrass.org
SUMMARY:Hooked On Bluegrass with Terry Brewer
DESCRIPTION:It’s the perfect way to wrap up your weekend with the finest bluegrass music around. Join Terry Brewer for “Hooked On Bluegrass” every Sunday night broadcasted live from California on thebluegrassjamboree.com
URL:https://californiabluegrass.org/event/hooked-on-bluegrass-with-terry-brewer/2026-04-26/
LOCATION:The Bluegrass Jamboree
CATEGORIES:Radio
ATTACH;FMTTYPE=image/jpeg:https://californiabluegrass.org/wp-content/uploads/2024/05/0A-on-the-air-HOB.jpg
END:VEVENT
BEGIN:VEVENT
DTSTART;TZID=America/Los_Angeles:20260427T183000
DTEND;TZID=America/Los_Angeles:20260427T203000
DTSTAMP:20260422T082458
CREATED:20231219T171122Z
LAST-MODIFIED:20231219T171122Z
UID:339905-1777314600-1777321800@californiabluegrass.org
SUMMARY:Sonoma Town Bluegrass Jam
DESCRIPTION:At the Sonoma Community Center 6:30 – 8:30pm on the 2nd and 4th Monday of each month.\n276 E. Napa St.  room 210\, Sonoma\nAll bluegrass instruments and levels are welcome to come and pick! \n(Formerly called the Reel Roadhouse jam.)
URL:https://californiabluegrass.org/event/sonoma-town-bluegrass-jam-formerly-the-reel-roadhouse-jamnew-time-and-place/2026-04-27/
LOCATION:Sonoma Community Center\, 276 E. Napa\, Sonoma\, CA\, 95476\, United States
CATEGORIES:Jam
ATTACH;FMTTYPE=image/jpeg:https://californiabluegrass.org/wp-content/uploads/2023/12/sonoma-jam.jpg
ORGANIZER;CN="Chandra Friese":MAILTO:chandra.friese@gmail.com
END:VEVENT
BEGIN:VEVENT
DTSTART;TZID=America/Los_Angeles:20260428T183000
DTEND;TZID=America/Los_Angeles:20260428T204500
DTSTAMP:20260422T082458
CREATED:20250123T061341Z
LAST-MODIFIED:20250123T061341Z
UID:339924-1777401000-1777409100@californiabluegrass.org
SUMMARY:Bluegrass Jam - Dublin CA
DESCRIPTION:Bluegrass Jam – Dublin California \nThis is an Open Bluegrass Jam!\nDublin Heritage Center Park\, 6600 Donlon\, Dublin CA. $4/person or $3 with purchase of a pre-paid punch card.\nUsually held in the Old Murray Schoolhouse inside the park.\nFree parking is available located between the schoolhouse and Saint Raymond’s Church. \nContact Bob.Gisler@icloud.com for more info.\n(This Jam is held on the 2nd and 4th Tuesdays of every month)
URL:https://californiabluegrass.org/event/bluegrass-jam-dublin-ca/2026-04-28/
LOCATION:Dublin Bluegrass Jam\, Dublin Heritage Center Park\, 6600 Donlon\, Dublin\, 94568
CATEGORIES:Jam
ATTACH;FMTTYPE=image/jpeg:https://californiabluegrass.org/wp-content/uploads/2025/01/Schoolhouse-Classroom-1.jpg
END:VEVENT
BEGIN:VEVENT
DTSTART;TZID=America/Los_Angeles:20260428T190000
DTEND;TZID=America/Los_Angeles:20260428T210000
DTSTAMP:20260422T082458
CREATED:20241002T183531Z
LAST-MODIFIED:20241002T183531Z
UID:339729-1777402800-1777410000@californiabluegrass.org
SUMMARY:Meadows Jam
DESCRIPTION:A friendly jam hosted by Vern Flock and friends\, every Tuesday from 7 to 9\, at the Meadows of Napa retirement home.
URL:https://californiabluegrass.org/event/meadows-jam/2026-04-28/
LOCATION:The Meadows of Napa Valley\, 1800 Atrium Pkwy\, Napa\, CA\, 94559\, United States
CATEGORIES:Jam
ORGANIZER;CN="Vern Flock":MAILTO:vernflock@gmail.com
END:VEVENT
BEGIN:VEVENT
DTSTART;TZID=America/Los_Angeles:20260429T180000
DTEND;TZID=America/Los_Angeles:20260429T200000
DTSTAMP:20260422T082458
CREATED:20231028T142016Z
LAST-MODIFIED:20231028T142016Z
UID:339752-1777485600-1777492800@californiabluegrass.org
SUMMARY:Wednesday East Bay Bluegrassers Jam
DESCRIPTION:The long-running East Bay Bluegrassers Jam continues on Wednesday evenings in El Cerrito. All ages and skill levels are welcome.\n\n\nThe jam is held every Wednesday\, 6-8pm\, on the second floor of Rockin’ Robbie’s Music Store (formerly The Music Works) at 11231 San Pablo Ave\, El Cerrito\, CA. (Three blocks from the El Cerrito Del Norte BART Station.) Entrance is to the right of the store and up one flight of stairs.\n\n\nDoors open at 5:30 for setup and to purchase strings or supplies if needed. A $5 donation is requested to help cover the room rental.
URL:https://californiabluegrass.org/event/wednesday-east-bay-bluegrassers-jam/2026-04-29/
LOCATION:Rockin Robbies – El Cerrito\, 11231 San Pablo Ave\, 2nd Floor\, El Cerrito\, CA\, 94530\, United States
CATEGORIES:Jam
ATTACH;FMTTYPE=image/jpeg:https://californiabluegrass.org/wp-content/uploads/2023/10/El-Cerrito-Jam-Group-Arlington.jpeg
ORGANIZER;CN="East Bay Bluegrassers%2C Contact%3A Steve Hutchinson":MAILTO:stevehutchmarine@gmail.com
END:VEVENT
BEGIN:VEVENT
DTSTART;TZID=America/Los_Angeles:20260429T180000
DTEND;TZID=America/Los_Angeles:20260429T200000
DTSTAMP:20260422T082458
CREATED:20231219T184112Z
LAST-MODIFIED:20231219T184112Z
UID:339751-1777485600-1777492800@californiabluegrass.org
SUMMARY:Wednesday East Bay Bluegrassers Jam
DESCRIPTION:The long-running East Bay Bluegrassers Jam continues on Wednesday evenings in El Cerrito. All ages and skill levels are welcome.\n\n\nThe jam is held every Wednesday\, 6-8pm\, on the second floor of Rockin’ Robbie’s Music Store (formerly The Music Works) at 11231 San Pablo Ave\, El Cerrito\, CA. (Three blocks from the El Cerrito Del Norte BART Station.) Entrance is to the right of the store and up one flight of stairs.\n\n\nDoors open at 5:30 for setup and to purchase strings or supplies if needed. A $5 donation is requested to help cover the room rental.
URL:https://californiabluegrass.org/event/wednesday-east-bay-bluegrassers-jam-2/2026-04-29/
LOCATION:Rockin Robbies – El Cerrito\, 11231 San Pablo Ave\, 2nd Floor\, El Cerrito\, CA\, 94530\, United States
CATEGORIES:Jam
ATTACH;FMTTYPE=image/jpeg:https://californiabluegrass.org/wp-content/uploads/2023/12/DSC04287-Edit-2.jpg
ORGANIZER;CN="East Bay Bluegrassers%2C Contact%3A Steve Hutchinson":MAILTO:stevehutchmarine@gmail.com
END:VEVENT
BEGIN:VEVENT
DTSTART;TZID=America/Los_Angeles:20260429T180000
DTEND;TZID=America/Los_Angeles:20260429T220000
DTSTAMP:20260422T082458
CREATED:20240225T155251Z
LAST-MODIFIED:20240225T155251Z
UID:339753-1777485600-1777500000@californiabluegrass.org
SUMMARY:Weekly Jam at Lawless Brewery
DESCRIPTION:All skills and ages welcome\, very friendly jam! Great players and new players alike. \nLocated at Lawless Brewery in North Hollywood\, this jam takes place every Wednesday\, 6-10pm. \n5275 Craner Ave\, Los Angeles\, CA 91601 \nContact nohoweeklyjam@gmail.com or (585) 267-6582 if you have any questions.
URL:https://californiabluegrass.org/event/weekly-jam-at-lawless-brewery/2026-04-29/
LOCATION:Lawless Brewery\, 5275 Craner Ave\, North Hollywood\, 91601
CATEGORIES:Jam
ORGANIZER;CN="Ryan Schindler":MAILTO:nohoweeklyjam@gmail.com
END:VEVENT
BEGIN:VEVENT
DTSTART;TZID=America/Los_Angeles:20260429T183000
DTEND;TZID=America/Los_Angeles:20260429T210000
DTSTAMP:20260422T082458
CREATED:20250718T044846Z
LAST-MODIFIED:20250718T044846Z
UID:340692-1777487400-1777496400@californiabluegrass.org
SUMMARY:Weekly Jam at Septentrio Winery
DESCRIPTION:Weekly bluegrass jam at Septentrio Winery in Arcata near the plaza.\nAll ages and levels welcome.\nBring your instrument and come jam with us every Wednesday night!
URL:https://californiabluegrass.org/event/weekly-jam-at-septentrio-winery/2026-04-29/
LOCATION:Septentrio Winery\, 650 6th Street\, Arcata\, 95521\, United States
CATEGORIES:Jam
ATTACH;FMTTYPE=image/jpeg:https://californiabluegrass.org/wp-content/uploads/2025/07/Screenshot_17-7-2025_214221_www.septentriowinery.com_-e1752814103644.jpeg
END:VEVENT
BEGIN:VEVENT
DTSTART;VALUE=DATE:20260430
DTEND;VALUE=DATE:20260503
DTSTAMP:20260422T082458
CREATED:20260317T195301Z
LAST-MODIFIED:20260327T191155Z
UID:345284-1777507200-1777766399@californiabluegrass.org
SUMMARY:Sierragrass
DESCRIPTION:Presented by AJ Lee & Blue Summit and Sierra Meadows in Ahwahnee\, California\n\n\n\n\n\n\n\n\n\n\nSierragrass is back for a second year of folk\, bluegrass\, Americana\, and more in beautiful Madera County.\nThis year\, the festival will feature a 3-night intimate and exclusive experience for music lovers\,\nincluding onsite camping\, RV\, and lodging options on a 1300-acre former golf course and nature reserve.
URL:https://californiabluegrass.org/event/sierragrass/
LOCATION:Sierra Meadows\, 46516 Opah Dr\, Ahwahnee\, CA\, CA\, 93601\, United States
CATEGORIES:Festival
ATTACH;FMTTYPE=image/jpeg:https://californiabluegrass.org/wp-content/uploads/2026/03/Screenshot_17-3-2026_125122_www.sierragrass.com_.jpeg
END:VEVENT
END:VCALENDAR